Package: BioTIP Version: 1.14.0 Command: rm -rf BioTIP.buildbin-libdir && mkdir BioTIP.buildbin-libdir && F:\biocbuild\bbs-3.17-bioc\R\bin\R.exe CMD INSTALL --build --library=BioTIP.buildbin-libdir BioTIP_1.14.0.tar.gz StartedAt: 2023-10-16 08:29:48 -0400 (Mon, 16 Oct 2023) EndedAt: 2023-10-16 08:30:12 -0400 (Mon, 16 Oct 2023) EllapsedTime: 24.7 seconds RetCode: 0 Status: OK PackageFile: BioTIP_1.14.0.zip PackageFileSize: 6.106 MiB