Package: BiocBaseUtils Version: 1.2.0 Command: chmod a+r BiocBaseUtils -R && F:\biocbuild\bbs-3.17-bioc\R\bin\R.exe CMD build --keep-empty-dirs --no-resave-data BiocBaseUtils StartedAt: 2023-10-15 17:37:42 -0400 (Sun, 15 Oct 2023) EndedAt: 2023-10-15 17:37:50 -0400 (Sun, 15 Oct 2023) EllapsedTime: 8.2 seconds RetCode: 0 Status: OK PackageFile: BiocBaseUtils_1.2.0.tar.gz PackageFileSize: 222.6 KiB