Package: BiocCheck Version: 1.36.1 Command: rm -rf BiocCheck.buildbin-libdir && mkdir BiocCheck.buildbin-libdir && F:\biocbuild\bbs-3.17-bioc\R\bin\R.exe CMD INSTALL --build --library=BiocCheck.buildbin-libdir BiocCheck_1.36.1.tar.gz StartedAt: 2023-10-16 08:28:39 -0400 (Mon, 16 Oct 2023) EndedAt: 2023-10-16 08:28:59 -0400 (Mon, 16 Oct 2023) EllapsedTime: 19.6 seconds RetCode: 0 Status: OK PackageFile: BiocCheck_1.36.1.zip PackageFileSize: 4.49 MiB