Package: BiocSingular Version: 1.16.0 Command: rm -rf BiocSingular.buildbin-libdir && mkdir BiocSingular.buildbin-libdir && F:\biocbuild\bbs-3.17-bioc\R\bin\R.exe CMD INSTALL --build --library=BiocSingular.buildbin-libdir BiocSingular_1.16.0.tar.gz StartedAt: 2023-10-16 08:29:05 -0400 (Mon, 16 Oct 2023) EndedAt: 2023-10-16 08:29:45 -0400 (Mon, 16 Oct 2023) EllapsedTime: 40.0 seconds RetCode: 0 Status: OK PackageFile: BiocSingular_1.16.0.zip PackageFileSize: 1.218 MiB