Package: BiocSingular Version: 1.16.0 Command: F:\biocbuild\bbs-3.17-bioc\R\bin\R.exe CMD check --no-multiarch --install=check:BiocSingular.install-out.txt --library=F:\biocbuild\bbs-3.17-bioc\R\library --no-vignettes --timings BiocSingular_1.16.0.tar.gz StartedAt: 2023-10-15 23:55:27 -0400 (Sun, 15 Oct 2023) EndedAt: 2023-10-15 23:57:58 -0400 (Sun, 15 Oct 2023) EllapsedTime: 150.9 seconds RetCode: 0 Status: WARNINGS CheckDir: BiocSingular.Rcheck Warnings: 1