Package: BiocWorkflowTools Version: 1.26.0 Command: /home/biocbuild/bbs-3.17-bioc/R/bin/R CMD INSTALL BiocWorkflowTools StartedAt: 2023-10-15 15:28:54 -0400 (Sun, 15 Oct 2023) EndedAt: 2023-10-15 15:28:57 -0400 (Sun, 15 Oct 2023) EllapsedTime: 2.9 seconds RetCode: 0 Status: OK