Package: CEMiTool Version: 1.24.0 Command: rm -rf CEMiTool.buildbin-libdir && mkdir CEMiTool.buildbin-libdir && /Users/biocbuild/BBS/utils/build-universal.sh CEMiTool_1.24.0.tar.gz /Library/Frameworks/R.framework/Resources/bin/R CEMiTool.buildbin-libdir StartedAt: 2023-10-16 09:06:47 -0400 (Mon, 16 Oct 2023) EndedAt: 2023-10-16 09:08:25 -0400 (Mon, 16 Oct 2023) EllapsedTime: 98.5 seconds RetCode: 0 Status: OK PackageFile: CEMiTool_1.24.0.tgz PackageFileSize: 5.987 MiB