Package: CEMiTool Version: 1.24.0 Command: /Library/Frameworks/R.framework/Resources/bin/R CMD build --keep-empty-dirs --no-resave-data CEMiTool StartedAt: 2023-10-15 17:18:24 -0400 (Sun, 15 Oct 2023) EndedAt: 2023-10-15 17:22:26 -0400 (Sun, 15 Oct 2023) EllapsedTime: 242.1 seconds RetCode: 0 Status: OK PackageFile: CEMiTool_1.24.0.tar.gz PackageFileSize: 5.477 MiB