Package: CEMiTool Version: 1.24.0 Command: /Library/Frameworks/R.framework/Resources/bin/R CMD check --install=check:CEMiTool.install-out.txt --library=/Library/Frameworks/R.framework/Resources/library --no-vignettes --timings CEMiTool_1.24.0.tar.gz StartedAt: 2023-10-15 23:36:45 -0400 (Sun, 15 Oct 2023) EndedAt: 2023-10-15 23:47:56 -0400 (Sun, 15 Oct 2023) EllapsedTime: 671.1 seconds RetCode: 0 Status: OK CheckDir: CEMiTool.Rcheck Warnings: 0