Package: CEMiTool Version: 1.24.0 Command: /home/biocbuild/bbs-3.17-bioc/R/bin/R CMD build --keep-empty-dirs --no-resave-data CEMiTool StartedAt: 2023-10-15 16:15:04 -0400 (Sun, 15 Oct 2023) EndedAt: 2023-10-15 16:16:42 -0400 (Sun, 15 Oct 2023) EllapsedTime: 98.1 seconds RetCode: 0 Status: OK PackageFile: CEMiTool_1.24.0.tar.gz PackageFileSize: 5.462 MiB