Package: CEMiTool Version: 1.24.0 Command: rm -rf CEMiTool.buildbin-libdir && mkdir CEMiTool.buildbin-libdir && F:\biocbuild\bbs-3.17-bioc\R\bin\R.exe CMD INSTALL --build --library=CEMiTool.buildbin-libdir CEMiTool_1.24.0.tar.gz StartedAt: 2023-10-16 08:33:17 -0400 (Mon, 16 Oct 2023) EndedAt: 2023-10-16 08:34:02 -0400 (Mon, 16 Oct 2023) EllapsedTime: 44.7 seconds RetCode: 0 Status: OK PackageFile: CEMiTool_1.24.0.zip PackageFileSize: 5.068 MiB