Package: CEMiTool Version: 1.24.0 Command: chmod a+r CEMiTool -R && F:\biocbuild\bbs-3.17-bioc\R\bin\R.exe CMD build --keep-empty-dirs --no-resave-data CEMiTool StartedAt: 2023-10-15 17:59:55 -0400 (Sun, 15 Oct 2023) EndedAt: 2023-10-15 18:03:59 -0400 (Sun, 15 Oct 2023) EllapsedTime: 244.2 seconds RetCode: 0 Status: OK PackageFile: CEMiTool_1.24.0.tar.gz PackageFileSize: 4.556 MiB