Package: CGHbase Version: 1.60.0 Command: /Library/Frameworks/R.framework/Resources/bin/R CMD build --keep-empty-dirs --no-resave-data CGHbase StartedAt: 2023-10-15 17:20:22 -0400 (Sun, 15 Oct 2023) EndedAt: 2023-10-15 17:20:24 -0400 (Sun, 15 Oct 2023) EllapsedTime: 2.1 seconds RetCode: 0 Status: OK PackageFile: CGHbase_1.60.0.tar.gz PackageFileSize: 848 KiB