Package: CGHbase Version: 1.60.0 Command: /Library/Frameworks/R.framework/Resources/bin/R CMD check --install=check:CGHbase.install-out.txt --library=/Library/Frameworks/R.framework/Resources/library --no-vignettes --timings CGHbase_1.60.0.tar.gz StartedAt: 2023-10-15 23:39:45 -0400 (Sun, 15 Oct 2023) EndedAt: 2023-10-15 23:41:29 -0400 (Sun, 15 Oct 2023) EllapsedTime: 104.4 seconds RetCode: 0 Status: OK CheckDir: CGHbase.Rcheck Warnings: 0