Package: CGHbase Version: 1.60.0 Command: /home/biocbuild/bbs-3.17-bioc/R/bin/R CMD build --keep-empty-dirs --no-resave-data CGHbase StartedAt: 2023-10-15 16:16:07 -0400 (Sun, 15 Oct 2023) EndedAt: 2023-10-15 16:16:08 -0400 (Sun, 15 Oct 2023) EllapsedTime: 1.0 seconds RetCode: 0 Status: OK PackageFile: CGHbase_1.60.0.tar.gz PackageFileSize: 848 KiB