Package: CGHcall Version: 2.62.0 Command: /home/biocbuild/bbs-3.17-bioc/R/bin/R CMD check --install=check:CGHcall.install-out.txt --library=/home/biocbuild/bbs-3.17-bioc/R/site-library --timings CGHcall_2.62.0.tar.gz StartedAt: 2023-10-15 19:59:57 -0400 (Sun, 15 Oct 2023) EndedAt: 2023-10-15 20:00:55 -0400 (Sun, 15 Oct 2023) EllapsedTime: 57.9 seconds RetCode: 0 Status: WARNINGS CheckDir: CGHcall.Rcheck Warnings: 1