Package: CGHnormaliter Version: 1.54.0 Command: rm -rf CGHnormaliter.buildbin-libdir && mkdir CGHnormaliter.buildbin-libdir && /Users/biocbuild/BBS/utils/build-universal.sh CGHnormaliter_1.54.0.tar.gz /Library/Frameworks/R.framework/Resources/bin/R CGHnormaliter.buildbin-libdir StartedAt: 2023-10-16 09:07:19 -0400 (Mon, 16 Oct 2023) EndedAt: 2023-10-16 09:07:34 -0400 (Mon, 16 Oct 2023) EllapsedTime: 15.3 seconds RetCode: 0 Status: OK PackageFile: CGHnormaliter_1.54.0.tgz PackageFileSize: 1.267 MiB