Package: CGHnormaliter Version: 1.54.0 Command: /home/biocbuild/bbs-3.17-bioc/R/bin/R CMD build --keep-empty-dirs --no-resave-data CGHnormaliter StartedAt: 2023-10-15 16:16:16 -0400 (Sun, 15 Oct 2023) EndedAt: 2023-10-15 16:17:08 -0400 (Sun, 15 Oct 2023) EllapsedTime: 52.3 seconds RetCode: 0 Status: OK PackageFile: CGHnormaliter_1.54.0.tar.gz PackageFileSize: 1.126 MiB