Package: CGHnormaliter Version: 1.54.0 Command: /home/biocbuild/bbs-3.17-bioc/R/bin/R CMD INSTALL CGHnormaliter StartedAt: 2023-10-15 15:13:16 -0400 (Sun, 15 Oct 2023) EndedAt: 2023-10-15 15:13:29 -0400 (Sun, 15 Oct 2023) EllapsedTime: 13.2 seconds RetCode: 0 Status: OK