Package: CGHnormaliter Version: 1.54.0 Command: rm -rf CGHnormaliter.buildbin-libdir && mkdir CGHnormaliter.buildbin-libdir && F:\biocbuild\bbs-3.17-bioc\R\bin\R.exe CMD INSTALL --build --library=CGHnormaliter.buildbin-libdir CGHnormaliter_1.54.0.tar.gz StartedAt: 2023-10-16 08:33:46 -0400 (Mon, 16 Oct 2023) EndedAt: 2023-10-16 08:33:54 -0400 (Mon, 16 Oct 2023) EllapsedTime: 7.9 seconds RetCode: 0 Status: OK PackageFile: CGHnormaliter_1.54.0.zip PackageFileSize: 1.145 MiB