Package: CGHnormaliter Version: 1.54.0 Command: F:\biocbuild\bbs-3.17-bioc\R\bin\R.exe CMD INSTALL CGHnormaliter StartedAt: 2023-10-15 15:59:40 -0400 (Sun, 15 Oct 2023) EndedAt: 2023-10-15 15:59:50 -0400 (Sun, 15 Oct 2023) EllapsedTime: 10.6 seconds RetCode: 0 Status: OK