Package: CGHregions Version: 1.58.0 Command: rm -rf CGHregions.buildbin-libdir && mkdir CGHregions.buildbin-libdir && /Users/biocbuild/BBS/utils/build-universal.sh CGHregions_1.58.0.tar.gz /Library/Frameworks/R.framework/Resources/bin/R CGHregions.buildbin-libdir StartedAt: 2023-10-16 09:07:20 -0400 (Mon, 16 Oct 2023) EndedAt: 2023-10-16 09:07:34 -0400 (Mon, 16 Oct 2023) EllapsedTime: 14.3 seconds RetCode: 0 Status: OK PackageFile: CGHregions_1.58.0.tgz PackageFileSize: 245.2 KiB