Package: CGHregions Version: 1.58.0 Command: /home/biocbuild/bbs-3.17-bioc/R/bin/R CMD check --install=check:CGHregions.install-out.txt --library=/home/biocbuild/bbs-3.17-bioc/R/site-library --timings CGHregions_1.58.0.tar.gz StartedAt: 2023-10-15 20:00:42 -0400 (Sun, 15 Oct 2023) EndedAt: 2023-10-15 20:01:19 -0400 (Sun, 15 Oct 2023) EllapsedTime: 37.3 seconds RetCode: 0 Status: OK CheckDir: CGHregions.Rcheck Warnings: 0