Package: CIMICE Version: 1.8.0 Command: /home/biocbuild/bbs-3.17-bioc/R/bin/R CMD check --install=check:CIMICE.install-out.txt --library=/home/biocbuild/bbs-3.17-bioc/R/site-library --timings CIMICE_1.8.0.tar.gz StartedAt: 2023-10-15 20:05:13 -0400 (Sun, 15 Oct 2023) EndedAt: 2023-10-15 20:06:38 -0400 (Sun, 15 Oct 2023) EllapsedTime: 85.0 seconds RetCode: 0 Status: OK CheckDir: CIMICE.Rcheck Warnings: 0