Package: CIMICE Version: 1.8.0 Command: rm -rf CIMICE.buildbin-libdir && mkdir CIMICE.buildbin-libdir && F:\biocbuild\bbs-3.17-bioc\R\bin\R.exe CMD INSTALL --build --library=CIMICE.buildbin-libdir CIMICE_1.8.0.tar.gz StartedAt: 2023-10-16 08:35:05 -0400 (Mon, 16 Oct 2023) EndedAt: 2023-10-16 08:35:22 -0400 (Mon, 16 Oct 2023) EllapsedTime: 17.3 seconds RetCode: 0 Status: OK PackageFile: CIMICE_1.8.0.zip PackageFileSize: 1.012 MiB