Package: CIMICE Version: 1.8.0 Command: F:\biocbuild\bbs-3.17-bioc\R\bin\R.exe CMD INSTALL CIMICE StartedAt: 2023-10-15 16:41:16 -0400 (Sun, 15 Oct 2023) EndedAt: 2023-10-15 16:41:30 -0400 (Sun, 15 Oct 2023) EllapsedTime: 14.8 seconds RetCode: 0 Status: OK