Package: CMA Version: 1.58.0 Command: /Library/Frameworks/R.framework/Resources/bin/R CMD check --install=check:CMA.install-out.txt --library=/Library/Frameworks/R.framework/Resources/library --no-vignettes --timings CMA_1.58.0.tar.gz StartedAt: 2023-10-15 23:55:47 -0400 (Sun, 15 Oct 2023) EndedAt: 2023-10-15 23:58:20 -0400 (Sun, 15 Oct 2023) EllapsedTime: 152.4 seconds RetCode: 0 Status: OK CheckDir: CMA.Rcheck Warnings: 0