Package: CMA Version: 1.58.0 Command: /home/biocbuild/bbs-3.17-bioc/R/bin/R CMD build --keep-empty-dirs --no-resave-data CMA StartedAt: 2023-10-15 16:21:31 -0400 (Sun, 15 Oct 2023) EndedAt: 2023-10-15 16:21:57 -0400 (Sun, 15 Oct 2023) EllapsedTime: 25.5 seconds RetCode: 0 Status: OK PackageFile: CMA_1.58.0.tar.gz PackageFileSize: 1.029 MiB