Package: CNORfeeder Version: 1.40.0 Command: /home/biocbuild/bbs-3.17-bioc/R/bin/R CMD check --install=check:CNORfeeder.install-out.txt --library=/home/biocbuild/bbs-3.17-bioc/R/site-library --timings CNORfeeder_1.40.0.tar.gz StartedAt: 2023-10-15 20:12:40 -0400 (Sun, 15 Oct 2023) EndedAt: 2023-10-15 20:13:43 -0400 (Sun, 15 Oct 2023) EllapsedTime: 63.3 seconds RetCode: 0 Status: WARNINGS CheckDir: CNORfeeder.Rcheck Warnings: 1