Package: CNVrd2 Version: 1.38.0 Command: /Library/Frameworks/R.framework/Resources/bin/R CMD check --install=check:CNVrd2.install-out.txt --library=/Library/Frameworks/R.framework/Resources/library --no-vignettes --timings CNVrd2_1.38.0.tar.gz StartedAt: 2023-10-16 00:01:57 -0400 (Mon, 16 Oct 2023) EndedAt: 2023-10-16 00:09:19 -0400 (Mon, 16 Oct 2023) EllapsedTime: 442.6 seconds RetCode: 0 Status: OK CheckDir: CNVrd2.Rcheck Warnings: 0