Package: CNVrd2 Version: 1.38.0 Command: /Library/Frameworks/R.framework/Resources/bin/R CMD INSTALL CNVrd2 StartedAt: 2023-10-15 15:40:49 -0400 (Sun, 15 Oct 2023) EndedAt: 2023-10-15 15:42:57 -0400 (Sun, 15 Oct 2023) EllapsedTime: 128.2 seconds RetCode: 0 Status: OK