Package: CNVrd2 Version: 1.38.0 Command: rm -rf CNVrd2.buildbin-libdir && mkdir CNVrd2.buildbin-libdir && F:\biocbuild\bbs-3.17-bioc\R\bin\R.exe CMD INSTALL --build --library=CNVrd2.buildbin-libdir CNVrd2_1.38.0.tar.gz StartedAt: 2023-10-16 08:36:43 -0400 (Mon, 16 Oct 2023) EndedAt: 2023-10-16 08:37:32 -0400 (Mon, 16 Oct 2023) EllapsedTime: 49.0 seconds RetCode: 0 Status: OK PackageFile: CNVrd2_1.38.0.zip PackageFileSize: 2.637 MiB