Package: CNVrd2 Version: 1.38.0 Command: chmod a+r CNVrd2 -R && F:\biocbuild\bbs-3.17-bioc\R\bin\R.exe CMD build --keep-empty-dirs --no-resave-data CNVrd2 StartedAt: 2023-10-15 18:15:05 -0400 (Sun, 15 Oct 2023) EndedAt: 2023-10-15 18:16:25 -0400 (Sun, 15 Oct 2023) EllapsedTime: 80.6 seconds RetCode: 0 Status: OK PackageFile: CNVrd2_1.38.0.tar.gz PackageFileSize: 2.539 MiB