Package: CRImage Version: 1.48.0 Command: rm -rf CRImage.buildbin-libdir && mkdir CRImage.buildbin-libdir && /Users/biocbuild/BBS/utils/build-universal.sh CRImage_1.48.0.tar.gz /Library/Frameworks/R.framework/Resources/bin/R CRImage.buildbin-libdir StartedAt: 2023-10-16 09:13:00 -0400 (Mon, 16 Oct 2023) EndedAt: 2023-10-16 09:13:39 -0400 (Mon, 16 Oct 2023) EllapsedTime: 39.7 seconds RetCode: 0 Status: OK PackageFile: CRImage_1.48.0.tgz PackageFileSize: 6.549 MiB