Package: CRImage Version: 1.48.0 Command: /Library/Frameworks/R.framework/Resources/bin/R CMD check --install=check:CRImage.install-out.txt --library=/Library/Frameworks/R.framework/Resources/library --no-vignettes --timings CRImage_1.48.0.tar.gz StartedAt: 2023-10-16 00:20:55 -0400 (Mon, 16 Oct 2023) EndedAt: 2023-10-16 00:24:13 -0400 (Mon, 16 Oct 2023) EllapsedTime: 198.7 seconds RetCode: 0 Status: OK CheckDir: CRImage.Rcheck Warnings: 0