Package: CRImage Version: 1.48.0 Command: /Library/Frameworks/R.framework/Resources/bin/R CMD INSTALL CRImage StartedAt: 2023-10-15 16:07:32 -0400 (Sun, 15 Oct 2023) EndedAt: 2023-10-15 16:08:08 -0400 (Sun, 15 Oct 2023) EllapsedTime: 35.9 seconds RetCode: 0 Status: OK