Package: CSSP Version: 1.38.0 Command: /home/biocbuild/bbs-3.17-bioc/R/bin/R CMD build --keep-empty-dirs --no-resave-data CSSP StartedAt: 2023-10-15 16:28:28 -0400 (Sun, 15 Oct 2023) EndedAt: 2023-10-15 16:28:34 -0400 (Sun, 15 Oct 2023) EllapsedTime: 6.3 seconds RetCode: 1 Status: ERROR PackageFile: None PackageFileSize: NA