Package: CSSP Version: 1.37.0 Command: /home/biocbuild/bbs-3.17-bioc/R/bin/R CMD check --install=check:CSSP.install-out.txt --library=/home/biocbuild/bbs-3.17-bioc/R/site-library --timings CSSP_1.37.0.tar.gz StartedAt: 2023-04-16 19:39:40 -0400 (Sun, 16 Apr 2023) EndedAt: 2023-04-16 19:40:33 -0400 (Sun, 16 Apr 2023) EllapsedTime: 53.1 seconds RetCode: 1 Status: ERROR CheckDir: CSSP.Rcheck Warnings: NA