Package: CSSP Version: 1.38.0 Command: /home/biocbuild/bbs-3.17-bioc/R/bin/R CMD INSTALL CSSP StartedAt: 2023-10-15 15:07:09 -0400 (Sun, 15 Oct 2023) EndedAt: 2023-10-15 15:07:19 -0400 (Sun, 15 Oct 2023) EllapsedTime: 9.7 seconds RetCode: 0 Status: OK