Package: Cardinal Version: 3.2.1 Command: rm -rf Cardinal.buildbin-libdir && mkdir Cardinal.buildbin-libdir && /Users/biocbuild/BBS/utils/build-universal.sh Cardinal_3.2.1.tar.gz /Library/Frameworks/R.framework/Resources/bin/R Cardinal.buildbin-libdir StartedAt: 2023-10-16 09:05:20 -0400 (Mon, 16 Oct 2023) EndedAt: 2023-10-16 09:07:54 -0400 (Mon, 16 Oct 2023) EllapsedTime: 154.0 seconds RetCode: 0 Status: OK PackageFile: Cardinal_3.2.1.tgz PackageFileSize: 4.696 MiB