Package: Cardinal Version: 3.2.1 Command: /Library/Frameworks/R.framework/Resources/bin/R CMD build --keep-empty-dirs --no-resave-data Cardinal StartedAt: 2023-10-15 17:13:02 -0400 (Sun, 15 Oct 2023) EndedAt: 2023-10-15 17:19:00 -0400 (Sun, 15 Oct 2023) EllapsedTime: 358.5 seconds RetCode: 0 Status: OK PackageFile: Cardinal_3.2.1.tar.gz PackageFileSize: 3.563 MiB