Package: CeTF Version: 1.12.0 Command: rm -rf CeTF.buildbin-libdir && mkdir CeTF.buildbin-libdir && /Users/biocbuild/BBS/utils/build-universal.sh CeTF_1.12.0.tar.gz /Library/Frameworks/R.framework/Resources/bin/R CeTF.buildbin-libdir StartedAt: 2023-10-16 09:07:02 -0400 (Mon, 16 Oct 2023) EndedAt: 2023-10-16 09:10:33 -0400 (Mon, 16 Oct 2023) EllapsedTime: 211.4 seconds RetCode: 0 Status: OK PackageFile: CeTF_1.12.0.tgz PackageFileSize: 3.994 MiB