Package: ChIPQC Version: 1.36.1 Command: rm -rf ChIPQC.buildbin-libdir && mkdir ChIPQC.buildbin-libdir && /Users/biocbuild/BBS/utils/build-universal.sh ChIPQC_1.36.1.tar.gz /Library/Frameworks/R.framework/Resources/bin/R ChIPQC.buildbin-libdir StartedAt: 2023-10-16 09:07:49 -0400 (Mon, 16 Oct 2023) EndedAt: 2023-10-16 09:11:14 -0400 (Mon, 16 Oct 2023) EllapsedTime: 205.2 seconds RetCode: 0 Status: OK PackageFile: ChIPQC_1.36.1.tgz PackageFileSize: 2.084 MiB