Package: ChIPQC Version: 1.36.1 Command: /Library/Frameworks/R.framework/Resources/bin/R CMD check --install=check:ChIPQC.install-out.txt --library=/Library/Frameworks/R.framework/Resources/library --no-vignettes --timings ChIPQC_1.36.1.tar.gz StartedAt: 2023-10-15 23:43:20 -0400 (Sun, 15 Oct 2023) EndedAt: 2023-10-15 23:59:36 -0400 (Sun, 15 Oct 2023) EllapsedTime: 976.2 seconds RetCode: 0 Status: WARNINGS CheckDir: ChIPQC.Rcheck Warnings: 1