Package: ChIPexoQual Version: 1.24.0 Command: /home/biocbuild/bbs-3.17-bioc/R/bin/R CMD INSTALL ChIPexoQual StartedAt: 2023-10-15 15:28:55 -0400 (Sun, 15 Oct 2023) EndedAt: 2023-10-15 15:29:38 -0400 (Sun, 15 Oct 2023) EllapsedTime: 43.0 seconds RetCode: 0 Status: OK