Package: ChIPexoQual Version: 1.24.0 Command: F:\biocbuild\bbs-3.17-bioc\R\bin\R.exe CMD check --no-multiarch --install=check:ChIPexoQual.install-out.txt --library=F:\biocbuild\bbs-3.17-bioc\R\library --no-vignettes --timings ChIPexoQual_1.24.0.tar.gz StartedAt: 2023-10-16 00:31:35 -0400 (Mon, 16 Oct 2023) EndedAt: 2023-10-16 00:39:30 -0400 (Mon, 16 Oct 2023) EllapsedTime: 474.8 seconds RetCode: 0 Status: OK CheckDir: ChIPexoQual.Rcheck Warnings: 0