Package: ChemmineR Version: 3.52.0 Command: chmod a+r ChemmineR -R && F:\biocbuild\bbs-3.17-bioc\R\bin\R.exe CMD build --keep-empty-dirs --no-resave-data ChemmineR StartedAt: 2023-10-15 18:02:39 -0400 (Sun, 15 Oct 2023) EndedAt: 2023-10-15 18:03:40 -0400 (Sun, 15 Oct 2023) EllapsedTime: 60.4 seconds RetCode: 1 Status: ERROR PackageFile: None PackageFileSize: NA