Package: Clonality Version: 1.48.0 Command: F:\biocbuild\bbs-3.17-bioc\R\bin\R.exe CMD INSTALL Clonality StartedAt: 2023-10-15 15:47:43 -0400 (Sun, 15 Oct 2023) EndedAt: 2023-10-15 15:47:57 -0400 (Sun, 15 Oct 2023) EllapsedTime: 14.7 seconds RetCode: 0 Status: OK