Package: ClusterJudge Version: 1.22.0 Command: rm -rf ClusterJudge.buildbin-libdir && mkdir ClusterJudge.buildbin-libdir && /Users/biocbuild/BBS/utils/build-universal.sh ClusterJudge_1.22.0.tar.gz /Library/Frameworks/R.framework/Resources/bin/R ClusterJudge.buildbin-libdir StartedAt: 2023-10-16 09:09:56 -0400 (Mon, 16 Oct 2023) EndedAt: 2023-10-16 09:10:12 -0400 (Mon, 16 Oct 2023) EllapsedTime: 15.5 seconds RetCode: 0 Status: OK PackageFile: ClusterJudge_1.22.0.tgz PackageFileSize: 4.283 MiB