Package: ClusterSignificance Version: 1.28.0 Command: /Library/Frameworks/R.framework/Resources/bin/R CMD INSTALL ClusterSignificance StartedAt: 2023-10-15 15:07:39 -0400 (Sun, 15 Oct 2023) EndedAt: 2023-10-15 15:08:18 -0400 (Sun, 15 Oct 2023) EllapsedTime: 38.3 seconds RetCode: 0 Status: OK